BEGIN:VCALENDAR
VERSION:2.0
PRODID:-//nowalska.pl - ECPv6.3.2//NONSGML v1.0//EN
CALSCALE:GREGORIAN
METHOD:PUBLISH
X-WR-CALNAME:nowalska.pl
X-ORIGINAL-URL:https://nowalska.pl
X-WR-CALDESC:Wydarzenia dla nowalska.pl
REFRESH-INTERVAL;VALUE=DURATION:PT1H
X-Robots-Tag:noindex
X-PUBLISHED-TTL:PT1H
BEGIN:VTIMEZONE
TZID:Europe/Warsaw
BEGIN:DAYLIGHT
TZOFFSETFROM:+0100
TZOFFSETTO:+0200
TZNAME:CEST
DTSTART:20260329T010000
END:DAYLIGHT
BEGIN:STANDARD
TZOFFSETFROM:+0200
TZOFFSETTO:+0100
TZNAME:CET
DTSTART:20261025T010000
END:STANDARD
END:VTIMEZONE
BEGIN:VEVENT
DTSTART;TZID=Europe/Warsaw:20260501T100000
DTEND;TZID=Europe/Warsaw:20260503T170000
DTSTAMP:20260424T154903
CREATED:20251129T123920Z
LAST-MODIFIED:20260326T070916Z
UID:9266-1777629600-1777827600@nowalska.pl
SUMMARY:Głęboka wewnętrzna cisza - warsztaty Jeziórko
DESCRIPTION:Głęboka cisza to świadoma twoja obecność bez wewnętrznego hałasu\, bez potrzeby ingerencji w cokolwiek. To stan twojego JESTEM\, pozytywnej obecności twojego JA. \nTego stanu nie osiąga się „na siłę”\, bo im bardziej próbuje się go osiągnąć\, tym bardziej go blokujemy w sobie. Paradoksalnie\, ciszę najłatwiej poczuć nie w absolutnej pustce\, ale w sytuacjach które nie wymagają twojej analizy\, nie zaczepiają ciebie. \nNa przykład: \n– jednolite dźwięki (wiatr\, deszcz\, fale) \n– naturalne dźwięki nie angażujące umysłu ( ptaki\, dźwięki przestrzeni) \n– mało bodźców\, pojedyncze tony \n– stonowane kolory i te naturalne (kolory ziemi) \n– brak chaosu \nW ciszę wprowadza to\, czego nie musisz interpretować\, wybierać\, reagować na to \n – to nie skupia twojej uwagi na zewnątrz! \nNajwiększa współczesna blokada ciszy – potrzeba umysłu ciągłej kontroli wszystkiego\, jego uzależnienie od bodźców zewnętrznych. \nPodczas naszego spotkania:\n\nWykład na temat głębokiej ciszy wewnętrznej – jej pozytywnych efektów dla człowieka\nZajęcia wprowadzające stan ciszy wewnętrznej\n\na. synchronizacja pozytywna – wykonywana indywidualnie na uczestnikach spotkania \nb. przekazy wprowadzające w ciszę \nc. relacje niematerialne jako metoda wydobywania z siebie ciszy \nd. przekodowanie swojego muszę w – mogę\, chcę \ne. kontakt ze swoim JA\, Głębią \nf. masaż promienisto-wirowy jako metoda wejścia w stan ciszy \nSprawy organizacyjne\nJesli chcesz wziąc udział w tym spotkaniu \, napisz – mwkursy@gmail \nMiejsce spotkania – Jeziórko ul. Główna 17 \nMożliwość noclegu – 60 zł/osoby. Na miejscu śniadanie\, kolacja – po 25 zł\, obiad (catering) ok. 45 zł. \nOpłata za udział w spotkaniu – 450 zł płatne na miejscu lub przelewem Wydawnictwo MW 58 8002 0004 0017967620000001. \n  \n 
URL:https://nowalska.pl/event/majowe-spotkanie/
ATTACH;FMTTYPE=image/jpeg:https://nowalska.pl/wp-content/uploads/2025/11/cisza.jpg
END:VEVENT
BEGIN:VEVENT
DTSTART;TZID=Europe/Warsaw:20260523T100000
DTEND;TZID=Europe/Warsaw:20260531T100000
DTSTAMP:20260424T154903
CREATED:20260417T095117Z
LAST-MODIFIED:20260417T111134Z
UID:9383-1779530400-1780221600@nowalska.pl
SUMMARY:Czy można wpływać na rzeczywistość? - trening dla twojej energii
DESCRIPTION:Celem treningu jest  udzielenie odpowiedzi na pytanie\, czy można wpływać na swoją rzeczywistość a jeśli tak\, to jak to robić? \nKażde nagranie będzie zachęcało ciebie do weryfikowania swoich poglądów na ten temat oraz spróbowania dostępnych nam metod komunikowania się niematerialnego ze swoją przestrzenią życiową. \nTytuły nagrań\, które otrzymasz na swój e-mail: \n\nRzeczywistość obiektywna a subiektywna – różnica między zmianą świata a zmianą interpretacji świata\nTwoje samospełniające się przepowiednie\nPoczucie braku wpływu i posiadania wpływu – na co masz wpływ\, na co nie masz\nInformowanie\, mobilizowanie i przyciąganie tego\, czego pragniesz\nFakty pomagają nie oszukiwać siebie\nRzeczywistość to zbiór twoich relacji\nWpływ na wszystko a obwinianie siebie za wszystko.\nDecyzje odkładane na potem i te szybko podejmowane\nPytania na które samodzielnie sobie odpowiesz…\n\nKurs trwa od  23 maja (sobota) do 31 maja (niedziela).  \nPlusem uczestniczenia w treningu energetycznym jest: \n\nto\, że nie musisz wyjeżdżać z domu\nnagrania odsłuchujesz wtedy\, kiedy masz na to czas\nmożesz te nagrania odsłuchiwać wielokrotnie\nmasz okazję do pobycia\, porozmawiania ze sobą\nnagrania przesyłają pozytywne impulsy twoim myślom i uczuciom\nnagrania porządkują ciebie\, wspierają w życiu\n\nCena kursu  – 370\,00 zł ( w tym 23% vat)  \nNagrania zgrywasz na swój komputer. Wystawiamy faktury! \nZapisz się na ten kurs\, napisz do nas\n mwkursy@gmail.com\nNasze konto – Wydawnictwo MW  58800200040017967620000001  (kod swift: POLUPLPR) \n\n\n\n\n\n\n  \n\n\n\n\n\n\n\n\n\n\n\n\n\n\n\n\n\n\n\n\n\n\n\n\n\n\n\n\n\n\n\n\n\n\n\n\n\n\n\n\n\n\n\n\n\n\n\n\n\n\n\n\n\n\n\n  \n\n\n\n\n\n\n\n  \n  \n 
URL:https://nowalska.pl/event/czy-mozna-wplywac-na-rzeczywistosc-trening-dla-twojej-energii/
ATTACH;FMTTYPE=image/jpeg:https://nowalska.pl/wp-content/uploads/2026/04/kellepics-fantasy-3303733.jpg
END:VEVENT
BEGIN:VEVENT
DTSTART;TZID=Europe/Warsaw:20260604T120000
DTEND;TZID=Europe/Warsaw:20260607T150000
DTSTAMP:20260424T154903
CREATED:20260417T162815Z
LAST-MODIFIED:20260417T162943Z
UID:9388-1780574400-1780844400@nowalska.pl
SUMMARY:Głębia\, ciało wiedzą pierwsze...
DESCRIPTION:Twoje ciało reaguje szybciej niż myśl. Problem w tym\, że większość ludzi nauczyła się je ignorować. To spotkanie poświęcimy rozpoznawaniu\, wyczuwaniu sygnałów przekazywanych przez nasze ciało. Poćwiczymy metody pomagające współpracować z ciałem\, słuchać się jego. \nCzy możesz odzyskać dostęp do informacji\,  \nktóre masz w sobie — szybciej niż pojawi się myśl? \nKilka ważnych stwierdzeń: \n\nzanim nazwiesz emocję — ciało już ją przeżywa.\njeśli nie wiesz\, co czujesz\, to brakuje ci kontaktu ze swoim ciałem\nwiele decyzji czujesz\, zanim je uzasadnisz\nzastanów się\, co czujesz w swoim ciele?\nciało i twoja Głębia zawsze mówią prawdę\ntwoje ciało otrzymuje i przetwarza informacje\, impulsy\nciało pokazuje na coś reakcję szybciej niż analiza\nbywa\, że mówisz tak\, choć ciało mówi nie. I odwrotnie.\nciało nieustannie generuje sygnały\, które mózg wykorzystuje do podejmowania decyzji\, regulacji emocji i interpretowania świata\n\nTo\, co czujesz jako „intuicję”\, często jest skrótem z doświadczenia\, zapisanym w ciele wzorcem \n\n\n\n„Twoje ciało nie jest kompasem\, który zawsze pokazuje prawdę. \nJest czujnikiem\, który pokazuje reakcję.” \n\nCiało też nie zawsze ma rację! Ono może reagować na traumę\, stare schematy\, błędne skojarzenia. Jednak – nasze ciało ciało nie tylko „towarzyszy” decyzjom\, ono je współtworzy! Ponieważ: \n\nnie ma „czystej myśli” oderwanej od ciała\nwszystko w nas jest ze sobą sprzężone\n\nJedna z najnowszych koncepcji – ANSception – sugeruje\, że zamiast patrzeć na pojedyncze sygnały (np. pracę serca)\, istotniejsze jest globalne odczucie całego układu nerwowego człowieka\, jaki jest jego ogólny stan fizjologiczny! \nNasze ciało nie porusza się bez powodu — ale ten powód nie zawsze jest świadomy \nPodczas spotkania: \n\nWykład + dyskusja\nStosowanie metod pomagających odczytać sygnały płynące z ciała. Ćwiczenia praktyczne.\nSkupienie się na rozumieniu aktualnego stanu swojego ciała – przepływ energii\, wirowanie pola energetycznego\, trój-jedność itp.\nPozyskiwanie informacji o swoim ciele\, o sobie dzięki wchodzeniu w połączenie z kimś innym\nSamoistny ruch twojego ciała – co mówi?\nScan swojego ciała\, rozumienie jego.\nPrzekazy\nCisza jako metoda synchronizowania siebie.\n\nTermin spotkania – od 4 czerwca godz. 12.00  (czwartek\, Boże Ciało) do 6 czerwca (sobota) do godz. 15.00. \nMożliwość noclegu – Jeziórko\, Głowna 17. Nocleg – 60 zł/osoby. Na miejscu śniadanie\, kolacja – po 25 zł\, obiad (catering) ok. 45 zł. \nOpłata za udział w spotkaniu – 450 zł płatne na miejscu lub przelewem Wydawnictwo MW 58 8002 0004 0017967620000001. \n  \n 
URL:https://nowalska.pl/event/glebia-cialo-wiedza-pierwsze/
ATTACH;FMTTYPE=image/jpeg:https://nowalska.pl/wp-content/uploads/2026/04/ri_ya-meditation-7086114.jpg
END:VEVENT
BEGIN:VEVENT
DTSTART;TZID=Europe/Warsaw:20260701T120000
DTEND;TZID=Europe/Warsaw:20260712T120000
DTSTAMP:20260424T154903
CREATED:20251129T102219Z
LAST-MODIFIED:20260415T143624Z
UID:9244-1782907200-1783857600@nowalska.pl
SUMMARY:Fale pozytywności - warsztaty nad morzem - Sobieszewo
DESCRIPTION:Warsztaty w Sobieszewie odbędą się od 1 lipca do 12 lipca 2026 \n„Fale Pozytywności” można rozumieć jako metaforę wewnętrznego procesu\, w którym pozytywne stany – emocje\, myśli i nastawienie – pojawiają się\, wzmacniają i rozchodzą w nas i na zewnątrz. Podobnie jak fale na morzu. One powodują zmiany od środka na zewnątrz. \nW filozofii pozytywność to nie euforia ale zgoda na rzeczywistość taką\, jaka jest\, spokój wewnętrzny mimo zmiennych okoliczności\, skupienie na tym\, co ma się pod kontrolą. W buddyzmie to stan\, w którym człowiek nie jest targany przez fale tworzące chaos\, tylko je obserwuje\, reaguje na nie. Wtedy staje się wolny od tego chaosu. \nFale Pozytywności” to naturalny rytm powracania  \ndo równowagi\, sensu i wewnętrznej mocy — mimo tego\, co oferuje człowiekowi życie. \nBędziemy mówili o potrzebie \n\nnie identyfikowania się z takimi falami\,\nmetodach wydobywania się z nich\, bycia poza nimi\,\nwykorzystywaniu takich fal\, zamiast z nimi walczyć.\n\nMorze\, woda od zawsze symbolizuje uwalnianie ciężaru emocji\, „zmywanie” przeszłości\, powrót do stanu świeżości\, wielką przestrzeń\, kusi wędrowaniem poza horyzont… Ludzie porównują życie do wody  – „życie płynie\, nic nie jest stałe”
URL:https://nowalska.pl/event/warsztaty-nad-morzem-sobieszewo/
ATTACH;FMTTYPE=image/jpeg:https://nowalska.pl/wp-content/uploads/2023/12/20230630_114826-1.jpg
END:VEVENT
BEGIN:VEVENT
DTSTART;TZID=Europe/Warsaw:20260801T150000
DTEND;TZID=Europe/Warsaw:20260808T100000
DTSTAMP:20260424T154903
CREATED:20251129T102805Z
LAST-MODIFIED:20260112T134617Z
UID:9246-1785596400-1786183200@nowalska.pl
SUMMARY:Piękna obecność - warsztaty Mierki k/Olsztynka
DESCRIPTION:Jak każdego roku\, odbędą się w sierpniu 2026 warsztaty nad jeziorem Pluszne\, w Ośrodku Mierki \n od 1 do 8 sierpnia 2026 \nJuż musimy złożyć rezerwację miejsc w tym Ośrodku. Mamy wstępnie zarezerwowane miejsca w następujących domkach: 3 Szałasy z widokiem na jezioro i tarasem\, Studio\, Apartament\, Studio M \nUwaga- podane ceny zawierają nocleg oraz wyżywienie dla jednej osoby przez 7dni \nSzałas z widokiem na jezioro\nzakwaterowaniu 3os. = 1762zł\, \nprzy zakwaterowaniu 4os. = 1540zł \n  \n  \n   STUDIO M \nprzy zakwaterowaniu 3os. = 2007zł\,  \nprzy zakwaterowaniu 4os. = 1724zł\n  \n  \n\nSTUDIO \nprzy zakwaterowaniu 3os. = 1960zł\,\nprzy zakwaterowaniu 4os. = 1689zł\n \nAPARTAMENT – \nprzy zakwaterowaniu 3os. = 2089zł\,  \nprzy zakwaterowaniu 4os. = 1785zł\n  \n  \n  \nPlan rozmieszczenia domków   \n\n\n\n\nSprawy organizacyjne\n\n\nZameldowanie w Ośrodku od 15:00 (jest obiad!)\, wymeldowanie: do 10:00 \n\nZajęcia będą rozpoczynały się po śniadaniu\, trwały do godz. 12.00. Przerwa do 17.00. Spotkamy się również po kolacji do ok godz. 21.00.\n2. Dlaczego wybrałam taki temat naszego spotkania?\n\nW otoczeniu pięknej\, czystej wody i lasu\, wzmocnijmy i uporządkujmy siebie\, swoje relacje  \nw obecności „między Niebem a Ziemią”. \nWażne: napisz do mnie mail zgłoszeniowy – mwkursy@gmail.com\nkonieczna jest przedpłata do 15 lutego w wysokości 250\,00 zł/osoby na konto –\n Mierki sp zoo Nr konta. 33 2490 0005 0000 4530 8134 0390 z dopiskiem – grupa p.Eli\n: \n 
URL:https://nowalska.pl/event/warsztaty-na-mazurach-k-olsztynka/
ATTACH;FMTTYPE=image/jpeg:https://nowalska.pl/wp-content/uploads/2025/11/osrodek-wypoczynkowy-mierki-widok-z-osrodka.jpg
END:VEVENT
END:VCALENDAR